BEGIN:VCALENDAR
VERSION:2.0
PRODID:-//Therapists Cafe - ECPv6.15.11//NONSGML v1.0//EN
CALSCALE:GREGORIAN
METHOD:PUBLISH
X-WR-CALNAME:Therapists Cafe
X-ORIGINAL-URL:https://therapists.cafe
X-WR-CALDESC:Events for Therapists Cafe
REFRESH-INTERVAL;VALUE=DURATION:PT1H
X-Robots-Tag:noindex
X-PUBLISHED-TTL:PT1H
BEGIN:VTIMEZONE
TZID:UTC
BEGIN:STANDARD
TZOFFSETFROM:+0000
TZOFFSETTO:+0000
TZNAME:UTC
DTSTART:20250101T000000
END:STANDARD
END:VTIMEZONE
BEGIN:VEVENT
DTSTART;TZID=UTC:20260417T180000
DTEND;TZID=UTC:20260417T210000
DTSTAMP:20260423T105303
CREATED:20260325T215340Z
LAST-MODIFIED:20260325T215504Z
UID:988-1776448800-1776459600@therapists.cafe
SUMMARY:Therapists Cafe for Psychodynamic/-analytic orientations
DESCRIPTION:This is a meeting for therapists of psychodynamic/-analytic orientations (or those interested in those professions but not exclusively trained) to come together\, talk about what moves us personally and professionally\, support and encourage each other\, and network/collaborate over coffee and cake. There will be an hour of reflective space followed by informal networking. \nRegistered therapists only – trainees welcome but details of training need to be provided. \nNon-profit initiative – ticket price covers room rent and snacks. \nThere will be a shared reflective space gaining 1.5 hours of CPD – please see ‘How the Cafes work’ on our website – followed by informal networking and socialising. \nTo book a space\, please email therapists.cafe@protonmail.com – please include your professional body accreditation number. \n  \nQuotes from participants after the last Cafes:  \n‘Such a lovely\, eclectic group of people!  Refreshing to meet colleagues one would not otherwise meet.’ \n‘As a new therapist \, post rigorous training\, the internal and external anxiety to survive is profound….. to create and hold a sustainable tension between professional and personal relationships; even more profound!\nTo find a space that allows me to be seen and heard and to exchange at relational depth;  the most profound of all!’\n\n\n‘A brilliant\, much-needed initiative!’ \n‘I have found the ethical foundation and carefully curated\, yet free-flowing approach of the Therapists’ Cafe distinctive and the evenings there highly enjoyable. It’s a great opportunity to meet other psychotherapists and a much-needed breathing space for me\, in a busy professional career.’ \n‘It was good to have a reflective space to meet therapists and to consider systemic/structural challenges. I think this is such an important space you have set up. Well done for what you’ve created!’\n\n‘I did feel a little like Philomena Cunk in the advert on your site at first:) I soon felt at ease though and it was such a welcoming and relaxed space’
URL:https://therapists.cafe/event/therapists-cafe-for-psychodynamic-analytic-orientations-3/
ATTACH;FMTTYPE=image/jpeg:https://therapists.cafe/wp-content/uploads/2025/07/cafe-freud-2.jpg
END:VEVENT
END:VCALENDAR