BEGIN:VCALENDAR
VERSION:2.0
PRODID:-//Therapists Cafe - ECPv6.15.11//NONSGML v1.0//EN
CALSCALE:GREGORIAN
METHOD:PUBLISH
X-WR-CALNAME:Therapists Cafe
X-ORIGINAL-URL:https://therapists.cafe
X-WR-CALDESC:Events for Therapists Cafe
REFRESH-INTERVAL;VALUE=DURATION:PT1H
X-Robots-Tag:noindex
X-PUBLISHED-TTL:PT1H
BEGIN:VTIMEZONE
TZID:UTC
BEGIN:STANDARD
TZOFFSETFROM:+0000
TZOFFSETTO:+0000
TZNAME:UTC
DTSTART:20250101T000000
END:STANDARD
END:VTIMEZONE
BEGIN:VEVENT
DTSTART;TZID=UTC:20260426T150000
DTEND;TZID=UTC:20260426T160000
DTSTAMP:20260423T110419
CREATED:20260327T200248Z
LAST-MODIFIED:20260421T221415Z
UID:993-1777215600-1777219200@therapists.cafe
SUMMARY:Private Practice/Business Development Group – Peer Supervision. ONLINE.
DESCRIPTION:Private Practice Business Development Group – Peer Supervision. ONLINE\, monthly. \nThe next one is on Sunday\, 26th of April\, 3-4pm\, online. £25 to contribute to the running costs of our project\, which is not for profit. Next one after that will be Sunday\, 24th of May. \nThis one is a monthly peer supervision group for all colleagues interested in developing their private practice or any other business venture they are working on. We will share our tips and experiences with marketing\, advertising\, practice development\, and all other business skills acquired. Topics discussed so far were marketing\, SEO\, social media strategies\, where to find good experts\, how to develop specialisms for private work and promote them locally\, in partnership with other services and colleagues. \nReasons: \n\nBecause Business Skills are not part of our training but they should be.\nBecause our ‘product’ is unique as is complex and needs to be clinically and ethically sound in order to be of good quality – ‘business’ and ‘marketing’ therefore need to be thought about in a more holistic way.\nBecause ‘mental health’ has become a huge market and our profession is under threat from venture capital firms (platformisation) and other bigger-scale for-profit businesses which seek to exploit therapists and customers – we therefore must work together to protect our practice spaces\, integrity\, and clients.\n\nAction: to sign up\, please email therapists.cafe@protonmail.com
URL:https://therapists.cafe/event/private-practice-business-development-group-peer-supervision-online/
ATTACH;FMTTYPE=image/jpeg:https://therapists.cafe/wp-content/uploads/2025/10/partners-2.jpg
END:VEVENT
END:VCALENDAR