BEGIN:VCALENDAR
VERSION:2.0
PRODID:-//Therapists Cafe - ECPv6.15.11//NONSGML v1.0//EN
CALSCALE:GREGORIAN
METHOD:PUBLISH
X-WR-CALNAME:Therapists Cafe
X-ORIGINAL-URL:https://therapists.cafe
X-WR-CALDESC:Events for Therapists Cafe
REFRESH-INTERVAL;VALUE=DURATION:PT1H
X-Robots-Tag:noindex
X-PUBLISHED-TTL:PT1H
BEGIN:VTIMEZONE
TZID:UTC
BEGIN:STANDARD
TZOFFSETFROM:+0000
TZOFFSETTO:+0000
TZNAME:UTC
DTSTART:20250101T000000
END:STANDARD
END:VTIMEZONE
BEGIN:VEVENT
DTSTART;TZID=UTC:20260503T150000
DTEND;TZID=UTC:20260503T180000
DTSTAMP:20260423T110516
CREATED:20260316T132141Z
LAST-MODIFIED:20260316T133111Z
UID:981-1777820400-1777831200@therapists.cafe
SUMMARY:Therapists Cafe for Humanistic/Integrative Practitioners - in person\, Bond St
DESCRIPTION:This is a meeting for therapists of Humanistic and Integrative orientations (or those interested in those approaches) to come together\, talk about what moves us personally and professionally\, support and encourage each other\, and network/collaborate over coffee and cake. Registered therapists only – trainees welcome but details of training need to be provided. \nNon-profit initiative – ticket price covers room rent and snacks. Venue is near Bond St tube. \nThere will be a shared reflective space gaining 1.5 hours of CPD – please see ‘How the Cafes work’ on our website – followed by informal networking and socialising. \nTo book a space\, please email therapists.cafe@protonmail.com – please include your professional body accreditation number.
URL:https://therapists.cafe/event/therapists-cafe-for-humanistic-integrative-practitioners/
ATTACH;FMTTYPE=image/jpeg:https://therapists.cafe/wp-content/uploads/2025/07/dinnerparty.jpg
END:VEVENT
END:VCALENDAR