BEGIN:VCALENDAR
VERSION:2.0
PRODID:-//Therapists Cafe - ECPv6.15.11//NONSGML v1.0//EN
CALSCALE:GREGORIAN
METHOD:PUBLISH
X-WR-CALNAME:Therapists Cafe
X-ORIGINAL-URL:https://therapists.cafe
X-WR-CALDESC:Events for Therapists Cafe
REFRESH-INTERVAL;VALUE=DURATION:PT1H
X-Robots-Tag:noindex
X-PUBLISHED-TTL:PT1H
BEGIN:VTIMEZONE
TZID:UTC
BEGIN:STANDARD
TZOFFSETFROM:+0000
TZOFFSETTO:+0000
TZNAME:UTC
DTSTART:20240101T000000
END:STANDARD
END:VTIMEZONE
BEGIN:VTIMEZONE
TZID:UTC
BEGIN:STANDARD
TZOFFSETFROM:+0000
TZOFFSETTO:+0000
TZNAME:UTC
DTSTART:20240101T000000
END:STANDARD
END:VTIMEZONE
BEGIN:VEVENT
DTSTART;TZID=UTC:20251129T120000
DTEND;TZID=UTC:20251129T140000
DTSTAMP:20260422T191947
CREATED:20251013T064405Z
LAST-MODIFIED:20251019T150216Z
UID:810-1764417600-1764424800@therapists.cafe
SUMMARY:Non-profit and Charity
DESCRIPTION:Non-profit business – Saturday\, 29th of November– Speakers: Dorothee Bonnigal-Katz on founding and running the famous Psychosis Therapy Project (https://ptp-usemi.org.uk/ptp.html) for over 12 years and Dr Phoenix-Rises Tabot-Ojong  on starting her charity Voice of the Child 17 years ago – we will cover: start and development of non-profit projects\, skills needed\, running of the projects\, funding successes and nightmares\, general success and pitfalls. Q&A\, mentoring opportunities for colleagues. \nSessions: 1.5 – 2hours\, CPD certificate available. Recording of presentations will be available excluding Q&As for participant privacy reasons.  \nCost: £40 per session. Registered therapists only. 
URL:https://therapists.cafe/event/non-profit-and-charity/
ATTACH;FMTTYPE=image/jpeg:https://therapists.cafe/wp-content/uploads/2025/09/Swimmy.jpg
END:VEVENT
BEGIN:VEVENT
DTSTART;TZID=UTC:20251128T180000
DTEND;TZID=UTC:20251128T200000
DTSTAMP:20260422T191947
CREATED:20251102T205346Z
LAST-MODIFIED:20251116T205944Z
UID:855-1764352800-1764360000@therapists.cafe
SUMMARY:Psychoanalysis Cafe - Salon for therapists of psychodynamic/analytic orientation/interest
DESCRIPTION:Hi all\, \nour next meeting/Salon for therapists of psychodynamic/-analytic orientations will be on Friday\, 28th of November\, from 6pm near Bond Street Tube. \nYou can be a psychodynamic/-analytic psychotherapist or a therapist of a different modality with significant interest and experience in dynamic or analytic approaches. \nIf you cannot make this specific date but are still interested in these meetings\, please do be in touch\, as we are creating a group of interested therapists and can then organise meetings on different days/times. \nLooking forward to hearing from you! \nNB: There is now a waiting list for this event – it may be sold out. \nFurther proposed dates: Sunday\, 14th of December\, TBC \nSunday\, 12th of January TBC \nFriday\, 17th of January TBC
URL:https://therapists.cafe/event/psychoanalysis-cafe-salon-for-therapists-of-psychodynamic-analytic-orientation-interest/
ATTACH;FMTTYPE=image/jpeg:https://therapists.cafe/wp-content/uploads/2025/07/cafe-freud-2.jpg
END:VEVENT
BEGIN:VEVENT
DTSTART;TZID=UTC:20251123T130000
DTEND;TZID=UTC:20251123T140000
DTSTAMP:20260422T191947
CREATED:20251013T063459Z
LAST-MODIFIED:20251115T234538Z
UID:806-1763902800-1763906400@therapists.cafe
SUMMARY:Info Event
DESCRIPTION:This is now an open online event for anyone who is interested in this project – not limited to therapists. Just open Q&As. \nIf you would like to attend\, please email therapists.cafe@protonmail.com for the link. \n  \n  \n  \n  \n  \n 
URL:https://therapists.cafe/event/info-event/
LOCATION:ONLINE
ATTACH;FMTTYPE=image/jpeg:https://therapists.cafe/wp-content/uploads/2025/07/what-would-you-like.jpg
ORGANIZER;CN="Therapists Cafe":MAILTO:therapists.cafe@protonmail.com
END:VEVENT
BEGIN:VEVENT
DTSTART;TZID=UTC:20250910T080000
DTEND;TZID=UTC:20250910T170000
DTSTAMP:20260422T191947
CREATED:20250910T113832Z
LAST-MODIFIED:20250910T113832Z
UID:730-1757491200-1757523600@therapists.cafe
SUMMARY:TESTTT
DESCRIPTION:
URL:https://therapists.cafe/event/testtt/
END:VEVENT
BEGIN:VEVENT
DTSTART;TZID=UTC:20250716T093000
DTEND;TZID=UTC:20250716T170000
DTSTAMP:20260422T191947
CREATED:20250709T084926Z
LAST-MODIFIED:20250709T085056Z
UID:282-1752658200-1752685200@therapists.cafe
SUMMARY:Therapy Cafe Test
DESCRIPTION:
URL:https://therapists.cafe/event/therapy-cafe-test/
LOCATION:ONLINE
CATEGORIES:Free Entry
ATTACH;FMTTYPE=image/jpeg:https://therapists.cafe/wp-content/uploads/2025/07/hollywoodsign.jpg
END:VEVENT
BEGIN:VEVENT
DTSTART;TZID=UTC:20250709T080000
DTEND;TZID=UTC:20250709T170000
DTSTAMP:20260422T191947
CREATED:20250709T085251Z
LAST-MODIFIED:20250709T085251Z
UID:286-1752048000-1752080400@therapists.cafe
SUMMARY:Title Event Online
DESCRIPTION:
URL:https://therapists.cafe/event/title-event-online/
CATEGORIES:Free Entry,Online
ATTACH;FMTTYPE=image/jpeg:https://therapists.cafe/wp-content/uploads/2025/07/cafe-freud-2.jpg
END:VEVENT
END:VCALENDAR