BEGIN:VCALENDAR
VERSION:2.0
PRODID:-//Therapists Cafe - ECPv6.15.11//NONSGML v1.0//EN
CALSCALE:GREGORIAN
METHOD:PUBLISH
X-WR-CALNAME:Therapists Cafe
X-ORIGINAL-URL:https://therapists.cafe
X-WR-CALDESC:Events for Therapists Cafe
REFRESH-INTERVAL;VALUE=DURATION:PT1H
X-Robots-Tag:noindex
X-PUBLISHED-TTL:PT1H
BEGIN:VTIMEZONE
TZID:UTC
BEGIN:STANDARD
TZOFFSETFROM:+0000
TZOFFSETTO:+0000
TZNAME:UTC
DTSTART:20240101T000000
END:STANDARD
END:VTIMEZONE
BEGIN:VEVENT
DTSTART;TZID=UTC:20250910T080000
DTEND;TZID=UTC:20250910T170000
DTSTAMP:20260424T130219
CREATED:20250910T113832Z
LAST-MODIFIED:20250910T113832Z
UID:730-1757491200-1757523600@therapists.cafe
SUMMARY:TESTTT
DESCRIPTION:
URL:https://therapists.cafe/event/testtt/
END:VEVENT
END:VCALENDAR