BEGIN:VCALENDAR
VERSION:2.0
PRODID:-//Therapists Cafe - ECPv6.15.11//NONSGML v1.0//EN
CALSCALE:GREGORIAN
METHOD:PUBLISH
X-ORIGINAL-URL:https://therapists.cafe
X-WR-CALDESC:Events for Therapists Cafe
REFRESH-INTERVAL;VALUE=DURATION:PT1H
X-Robots-Tag:noindex
X-PUBLISHED-TTL:PT1H
BEGIN:VTIMEZONE
TZID:UTC
BEGIN:STANDARD
TZOFFSETFROM:+0000
TZOFFSETTO:+0000
TZNAME:UTC
DTSTART:20250101T000000
END:STANDARD
END:VTIMEZONE
BEGIN:VEVENT
DTSTART;TZID=UTC:20260313T180000
DTEND;TZID=UTC:20260313T210000
DTSTAMP:20260423T110731
CREATED:20260219T223307Z
LAST-MODIFIED:20260220T191821Z
UID:959-1773424800-1773435600@therapists.cafe
SUMMARY:Therapists Cafe for Psychodynamic/-analytic orientations
DESCRIPTION:This is a meeting for therapists of psychodynamic/-analytic orientations (or those interested in those professions but not exclusively trained) to come together\, talk about what moves us personally and professionally\, support and encourage each other\, and network/collaborate over coffee and cake. Registered therapists only – trainees welcome but details of training need to be provided. \nNon-profit initiative – ticket price covers room rent and snacks. \nThere will be a shared reflective space gaining 1.5 hours of CPD – please see ‘How the Cafes work’ on our website – followed by informal networking and socialising. \nTo book a space\, please email therapists.cafe@protonmail.com – please include your professional body accreditation number. \n  \nQuotes from participants after the last Cafes:  \n‘Such a lovely\, eclectic group of people!  Refreshing to meet colleagues one would not otherwise meet.’ \n‘As a new therapist \, post rigorous training\, the internal and external anxiety to survive is profound….. to create and hold a sustainable tension between professional and personal relationships; even more profound!\nTo find a space that allows me to be seen and heard and to exchange at relational depth;  the most profound of all!’\n\n\n‘A brilliant\, much-needed initiative!’ \n‘I have found the ethical foundation and carefully curated\, yet free-flowing approach of the Therapists’ Cafe distinctive and the evenings there highly enjoyable. It’s a great opportunity to meet other psychotherapists and a much-needed breathing space for me\, in a busy professional career.’ \n‘It was good to have a reflective space to meet therapists and to consider systemic/structural challenges. I think this is such an important space you have set up. Well done for what you’ve created!’\n\n‘I did feel a little like Philomena Cunk in the advert on your site at first:) I soon felt at ease though and it was such a welcoming and relaxed space’
URL:https://therapists.cafe/event/therapists-cafe-for-psychodynamic-analytic-orientations-2/
ATTACH;FMTTYPE=image/jpeg:https://therapists.cafe/wp-content/uploads/2025/07/cafe-freud-2.jpg
END:VEVENT
BEGIN:VEVENT
DTSTART;TZID=UTC:20260320T150000
DTEND;TZID=UTC:20260320T163000
DTSTAMP:20260423T110731
CREATED:20251013T064219Z
LAST-MODIFIED:20260215T145524Z
UID:808-1774018800-1774024200@therapists.cafe
SUMMARY:ONLINE Therapists in Mental Health Service Management
DESCRIPTION:Ticket fee supports the running of the in-person Cafes. \nManagement in the Mental Health sector – Friday\, 20th of March – Speakers Marta Banet\, Head of Psychological Services at riverside.org.uk and Kelly McMinn\, former Head of Mental Health at One Housing Group.  \nWe will cover: how do therapists step up to become a mental health service manager – skills needed to manage a mental health service with both clinical and operational responsibilities; recruiting and managing a team\, working towards commissioned targets\, achieving key performance indicators\, collaborating with stakeholders. \nParticipants will get detailed information of skills they need to develop\, how to apply for the role\, and how to prepare for interview. Specialist personal mentoring will be available after the event by Kelly McMinn. \nThe workshop will lead to the direct opportunity to apply for open service manager posts at Riverside projects. \n  \nTicket fee supports the running of the in-person Cafes. We are trying to offer the in-person Cafes at cost\, covering room rent and snacks. But there are many other costs involved in running a project like this\, which we are attempting to cover with online events – your contribution helps us.
URL:https://therapists.cafe/event/therapists-in-mental-health-service-management/
LOCATION:ONLINE
ATTACH;FMTTYPE=image/jpeg:https://therapists.cafe/wp-content/uploads/2025/09/Swimmy.jpg
ORGANIZER;CN="Therapists Cafe":MAILTO:therapists.cafe@protonmail.com
END:VEVENT
BEGIN:VEVENT
DTSTART;TZID=UTC:20260329T150000
DTEND;TZID=UTC:20260329T160000
DTSTAMP:20260423T110731
CREATED:20260325T215102Z
LAST-MODIFIED:20260325T215107Z
UID:985-1774796400-1774800000@therapists.cafe
SUMMARY:Private Practice Business Development Peer Supervision Group - ONLINE
DESCRIPTION:Private Practice Business Development Group – Peer Supervision. ONLINE\, monthly. \nThe next one is this coming Sunday\, 29th of March\, 3-4pm\, online. £25 to contribute to the running costs of our project. Next one after that will be Sunday\, 26th of April. \nThis one is a monthly peer supervision group for all colleagues interested in developing their private practice or any other business venture they are working on. We will share our tips and experiences with marketing\, advertising\, practice development\, and all other business skills acquired. Topics discussed so far were marketing\, SEO\, social media strategies\, where to find good experts\, how to develop specialisms for private work and promote them locally\, in partnership with other services and colleagues. \nAction: to sign up\, please email therapists.cafe@protonmail.com
URL:https://therapists.cafe/event/private-practice-business-development-peer-supervision-group-online/
ATTACH;FMTTYPE=image/jpeg:https://therapists.cafe/wp-content/uploads/2025/10/partners-2.jpg
ORGANIZER;CN="Therapists Cafe":MAILTO:therapists.cafe@protonmail.com
END:VEVENT
END:VCALENDAR