BEGIN:VCALENDAR
VERSION:2.0
PRODID:-//Therapists Cafe - ECPv6.15.11//NONSGML v1.0//EN
CALSCALE:GREGORIAN
METHOD:PUBLISH
X-ORIGINAL-URL:https://therapists.cafe
X-WR-CALDESC:Events for Therapists Cafe
REFRESH-INTERVAL;VALUE=DURATION:PT1H
X-Robots-Tag:noindex
X-PUBLISHED-TTL:PT1H
BEGIN:VTIMEZONE
TZID:UTC
BEGIN:STANDARD
TZOFFSETFROM:+0000
TZOFFSETTO:+0000
TZNAME:UTC
DTSTART:20250101T000000
END:STANDARD
END:VTIMEZONE
BEGIN:VEVENT
DTSTART;TZID=UTC:20260503T150000
DTEND;TZID=UTC:20260503T180000
DTSTAMP:20260423T110716
CREATED:20260316T132141Z
LAST-MODIFIED:20260316T133111Z
UID:981-1777820400-1777831200@therapists.cafe
SUMMARY:Therapists Cafe for Humanistic/Integrative Practitioners - in person\, Bond St
DESCRIPTION:This is a meeting for therapists of Humanistic and Integrative orientations (or those interested in those approaches) to come together\, talk about what moves us personally and professionally\, support and encourage each other\, and network/collaborate over coffee and cake. Registered therapists only – trainees welcome but details of training need to be provided. \nNon-profit initiative – ticket price covers room rent and snacks. Venue is near Bond St tube. \nThere will be a shared reflective space gaining 1.5 hours of CPD – please see ‘How the Cafes work’ on our website – followed by informal networking and socialising. \nTo book a space\, please email therapists.cafe@protonmail.com – please include your professional body accreditation number.
URL:https://therapists.cafe/event/therapists-cafe-for-humanistic-integrative-practitioners/
ATTACH;FMTTYPE=image/jpeg:https://therapists.cafe/wp-content/uploads/2025/07/dinnerparty.jpg
END:VEVENT
BEGIN:VEVENT
DTSTART;TZID=UTC:20260523T150000
DTEND;TZID=UTC:20260523T170000
DTSTAMP:20260423T110716
CREATED:20251013T064622Z
LAST-MODIFIED:20260316T131653Z
UID:812-1779548400-1779555600@therapists.cafe
SUMMARY:Organisational Consulting and Executive Coaching Date TBC
DESCRIPTION:Organisational Consulting and Executive Coaching – Saturday\, 6th of December – Speakers David Arrell\, organisational consultant and executive coach. Presentation of his experience with organisational consulting implementing his model based on Robert Kegan’s stages of adult ego-development and the Deliberately Developmental Organisation (DDO). We will cover: models of adult ego-stage development\, and general skills needed for therapists to step into organisational consultancy and executive coaching. Q&A. Mentoring opportunities and networking. 2nd Speaker: Roman Angerer\, psychometrics of stages of ego development – introducing one method of measuring adult ego-development according to the theories of Susanne Cook-Greuter and Michael Commons Model of Hierarchical Complexity (MHC). \n 
URL:https://therapists.cafe/event/organisational-consulting-and-executive-coaching/
ATTACH;FMTTYPE=image/jpeg:https://therapists.cafe/wp-content/uploads/2025/09/Swimmy.jpg
END:VEVENT
BEGIN:VEVENT
DTSTART;TZID=UTC:20260524T150000
DTEND;TZID=UTC:20260524T160000
DTSTAMP:20260423T110716
CREATED:20260421T222021Z
LAST-MODIFIED:20260421T222028Z
UID:1005-1779634800-1779638400@therapists.cafe
SUMMARY:Private Practice/Business Development Group – Peer Supervision. ONLINE\, monthly.
DESCRIPTION:Private Practice/Business Development Group – Peer Supervision. ONLINE\, monthly. \nThe next one is on Sunday\, 24th of May\, 3-4pm\, online. £25 to contribute to the running costs of our project\, which is not for profit. Next one after that will be Sunday\, 28th of June. \nThis one is a monthly peer supervision group for all colleagues interested in developing their private practice or any other business venture they are working on. We will share our tips and experiences with marketing\, advertising\, practice development\, and all other business skills acquired. Topics discussed so far were marketing\, SEO\, social media strategies\, where to find good experts\, how to develop specialisms for private work and promote them locally\, in partnership with other services and colleagues. \nReasons: \n\nBecause Business Skills are not part of our training but they should be.\nBecause our ‘product’ is unique as is complex and needs to be clinically and ethically sound in order to be of good quality – ‘business’ and ‘marketing’ therefore need to be thought about in a more holistic way.\nBecause ‘mental health’ has become a huge market and our profession is under threat from venture capital firms (platformisation) and other bigger-scale for-profit businesses which seek to exploit therapists and customers – we therefore must work together to protect our practice spaces\, integrity\, and clients.\n\nAction: to sign up\, please email therapists.cafe@protonmail.com
URL:https://therapists.cafe/event/private-practice-business-development-group-peer-supervision-online-monthly/
ATTACH;FMTTYPE=image/jpeg:https://therapists.cafe/wp-content/uploads/2025/10/partners-2.jpg
END:VEVENT
END:VCALENDAR